BEGIN:VCALENDAR
VERSION:2.0
PRODID:-//Tukios.com/
BEGIN:VEVENT
UID:c3af85ae-cfb7-43e3-8039-a110921d1716@www.leesidefuneralhome.com
DTSTAMP:20260422T021116Z
DTSTART:20260425T183000Z
DTEND:20260425T193000Z
SUMMARY:Celebration of Life
DESCRIPTION:
URL:https://www.leesidefuneralhome.com/obituaries/rodrigues-bogan
LOCATION: 228 N Dean St  Spartanburg SC 29302
GEO:34.9544587;-81.926928
END:VEVENT
END:VCALENDAR