BEGIN:VCALENDAR
VERSION:2.0
PRODID:-//Tukios.com/
BEGIN:VEVENT
UID:59f4058b-6d5e-4946-b2ed-749e140a9e1a@www.leesidefuneralhome.com
DTSTAMP:20260422T021235Z
DTSTART:20260425T180000Z
DTEND:20260425T183000Z
SUMMARY:Visitation with Family
DESCRIPTION:
URL:https://www.leesidefuneralhome.com/obituaries/rodrigues-bogan
LOCATION: 228 N Dean St  Spartanburg SC 29302
GEO:34.9544587;-81.926928
END:VEVENT
END:VCALENDAR